BEGIN:VCALENDAR
VERSION:2.0
PRODID:-//CiviCRM//NONSGML CiviEvent iCal//EN
X-WR-TIMEZONE:America/Toronto
METHOD:PUBLISH
BEGIN:VTIMEZONE
TZID:America/Toronto
BEGIN:DAYLIGHT
TZOFFSETFROM:-0400
TZOFFSETTO:-0400
TZNAME:EDT
DTSTART:20260512T120000
END:DAYLIGHT
END:VTIMEZONE
BEGIN:VEVENT
UID:CiviCRM_EventID_475_e717265098c2a976ce6ab678269d5f80@pillarnonprofit.ca
SUMMARY:May Salad Club 2026
CATEGORIES:Networking Event
CALSCALE:GREGORIAN
DTSTAMP;TZID=America/Toronto:20260512T120000
DTSTART;TZID=America/Toronto:20260512T120000
DTEND;TZID=America/Toronto:20260512T133000
LOCATION:201 King Street\n 201 King Street\n London\, ON N6
 A 1C9-N6A 1C9\n Canada\n 
URL:https://pillarnonprofit.ca/civicrm/event/info?reset=1&id=475
END:VEVENT
END:VCALENDAR
